# generated using pymatgen
data_Mg
_symmetry_space_group_name_H-M   'P 1'
_cell_length_a   3.18998685
_cell_length_b   3.18998685
_cell_length_c   52.18694605
_cell_angle_alpha   90.00000000
_cell_angle_beta   90.00000000
_cell_angle_gamma   120.00000000
_symmetry_Int_Tables_number   1
_chemical_formula_structural   Mg
_chemical_formula_sum   Mg8
_cell_volume   459.90729593
_cell_formula_units_Z   8
loop_
 _symmetry_equiv_pos_site_id
 _symmetry_equiv_pos_as_xyz
  1  'x, y, z'
loop_
 _atom_site_type_symbol
 _atom_site_label
 _atom_site_symmetry_multiplicity
 _atom_site_fract_x
 _atom_site_fract_y
 _atom_site_fract_z
 _atom_site_occupancy
  Mg  Mg1  1  0.002397  0.001598  0.324524  1
  Mg  Mg2  1  0.669064  0.334932  0.474348  1
  Mg  Mg3  1  0.002397  0.001598  0.424291  1
  Mg  Mg4  1  0.335731  0.668265  0.374258  1
  Mg  Mg5  1  0.002397  0.001598  0.524405  1
  Mg  Mg6  1  0.669064  0.334932  0.674276  1
  Mg  Mg7  1  0.002397  0.001598  0.624494  1
  Mg  Mg8  1  0.335731  0.668265  0.574463  1
