# generated using pymatgen
data_Ag
_symmetry_space_group_name_H-M   'P 1'
_cell_length_a   2.87968173
_cell_length_b   2.87968173
_cell_length_c   63.55978392
_cell_angle_alpha   90.00000000
_cell_angle_beta   90.00000000
_cell_angle_gamma   59.99999999
_symmetry_Int_Tables_number   1
_chemical_formula_structural   Ag
_chemical_formula_sum   Ag9
_cell_volume   456.45926316
_cell_formula_units_Z   9
loop_
 _symmetry_equiv_pos_site_id
 _symmetry_equiv_pos_as_xyz
  1  'x, y, z'
loop_
 _atom_site_type_symbol
 _atom_site_label
 _atom_site_symmetry_multiplicity
 _atom_site_fract_x
 _atom_site_fract_y
 _atom_site_fract_z
 _atom_site_occupancy
  Ag  Ag1  1  0.334644  0.335954  0.609870  1
  Ag  Ag2  1  1.001310  0.002620  0.572726  1
  Ag  Ag3  1  0.334644  0.335954  0.535717  1
  Ag  Ag4  1  0.667977  0.669287  0.387246  1
  Ag  Ag5  1  0.334644  0.335954  0.350597  1
  Ag  Ag6  1  0.667977  0.669287  0.646519  1
  Ag  Ag7  1  1.001310  0.002620  0.498558  1
  Ag  Ag8  1  0.667977  0.669287  0.461399  1
  Ag  Ag9  1  1.001310  0.002620  0.424390  1
